BEGIN:VCALENDAR
VERSION:2.0
PRODID:-//Office of Education//NONSGML Events//EN
CALSCALE:GREGORIAN
X-ORIGINAL-URL:https://education.med.wustl.edu/ipe-events-activities/
X-WR-CALDESC:Office of Education - Events
BEGIN:VEVENT
UID:20260312T1210Z-1773317449.7067-EO-16959-1@10.73.9.9
STATUS:CONFIRMED
DTSTAMP:20260414T152327Z
CREATED:20260309T192643Z
LAST-MODIFIED:20260309T202034Z
DTSTART;TZID=America/Chicago:20260415T120000
DTEND;TZID=America/Chicago:20260415T123000
SUMMARY: AIHC Micro Learning Event
DESCRIPTION: In our current political climate\, it is inevitable that contr
 oversial topics will come up in the learning environment. We will discuss p
 ossible strategies for maintaining this open learning environment within th
 is context. Presenters: Heather Hudson\, EdD\, LAT\, ATC and Hannah Maxfiel
 d\, MD\, FAAFP Meeting Registration – Zoom  
X-ALT-DESC;FMTTYPE=text/html: <p>In our current political climate\, it is i
 nevitable that controversial topics will come up in the learning environmen
 t. We will discuss possible strategies for maintaining this open learning e
 nvironment within this context. Presenters: Heather Hudson\, EdD\, LAT\, AT
 C and Hannah Maxfield\, MD\, FAAFP</p><p><a title="https://umn.zoom.us/meet
 ing/register/dxP4tfgcRyO54C2WsEIPbg#/registration" href="https://umn.zoom.u
 s/meeting/register/dxP4tfgcRyO54C2WsEIPbg#/registration" target="_blank" re
 l="noopener noreferrer" data-auth="NotApplicable" data-linkindex="0" data-o
 lk-copy-source="MessageBody">Meeting Registration - Zoom</a></p><p> </p>
CATEGORIES:National Opportunity,Virtual (Other)
ORGANIZER;CN="Tyla Carter":MAILTO:carter.tyla@wustl.edu
URL;VALUE=URI:https://education.med.wustl.edu/ipe-events-activities/event/a
 ihc-micro-learning-event/
END:VEVENT
BEGIN:VTIMEZONE
TZID:America/Chicago
BEGIN:DAYLIGHT
TZOFFSETFROM:-0600
TZOFFSETTO:-0500
DTSTART:20260308T080000
TZNAME:CDT
END:DAYLIGHT
END:VTIMEZONE
END:VCALENDAR
