BEGIN:VCALENDAR
VERSION:2.0
PRODID:-//Office of Education//NONSGML Events//EN
CALSCALE:GREGORIAN
X-ORIGINAL-URL:https://education.med.wustl.edu/ipe-events-activities/
X-WR-CALDESC:Office of Education - Events
BEGIN:VEVENT
UID:20260422T2134Z-1776893690.2181-EO-17007-1@10.73.9.9
STATUS:CONFIRMED
DTSTAMP:20260423T194526Z
CREATED:20260422T142354Z
LAST-MODIFIED:20260423T132234Z
DTSTART;TZID=America/Chicago:20260720T160000
DTEND;TZID=America/Chicago:20260720T180000
SUMMARY: Creative Conversations
DESCRIPTION: Join CIPE at the Kemper Art Museum on Wash U’s Danforth Campus
  to explore how creativity and conversation contribute to team cohesion. We
 ’ll begin by working together to interpret works of art in the Kemper Art M
 useum through guided discussion. Then\, flex your own creative problem solv
 ing power through a fun\, low-stakes design challenge that […]
X-ALT-DESC;FMTTYPE=text/html: <p>Join CIPE at the Kemper Art Museum on Wash
  U’s Danforth Campus to explore how creativity and conversation contribute 
 to team cohesion. We’ll begin by working together to interpret works of art
  in the Kemper Art Museum through guided discussion. Then\, flex your own c
 reative problem solving power through a fun\, low-stakes design challenge t
 hat will embrace mindfulness\, joy\, and team building.</p><p>Presenters:</
 p><ul><li>Kira Hegeman\, PhD\, Head of Learning and Engagement\, Kemper Art
  Museum</li></ul><p>Register <a href="https://wustl.az1.qualtrics.com/jfe/f
 orm/SV_bEkluKVRfPKyU06">here</a></p>
CATEGORIES:CIPE In-Person,CIPE PD Workshop
LOCATION:The Mildred Lane Kemper Art Museum
GEO:38.647042;-90.302673
ORGANIZER;CN="Tyla Carter":MAILTO:carter.tyla@wustl.edu
URL;VALUE=URI:https://education.med.wustl.edu/ipe-events-activities/event/c
 reative-conversations/
END:VEVENT
BEGIN:VTIMEZONE
TZID:America/Chicago
BEGIN:DAYLIGHT
TZOFFSETFROM:-0600
TZOFFSETTO:-0500
DTSTART:20260308T080000
TZNAME:CDT
END:DAYLIGHT
END:VTIMEZONE
END:VCALENDAR
