BEGIN:VCALENDAR
VERSION:2.0
PRODID:-//Office of Education//NONSGML Events//EN
CALSCALE:GREGORIAN
X-ORIGINAL-URL:https://education.med.wustl.edu/ipe-events-activities/
X-WR-CALDESC:Office of Education - Events
BEGIN:VEVENT
UID:20260329T0353Z-1774756391.191-EO-16977-1@10.73.9.9
STATUS:CONFIRMED
DTSTAMP:20260423T134239Z
CREATED:20260325T144018Z
LAST-MODIFIED:20260325T144018Z
DTSTART;VALUE=DATE:20260505
DTEND;VALUE=DATE:20260506
RDATE;VALUE=DATE:20260507,20260512,20260514
SUMMARY: Interprofessional Education: Building a Framework for Collaboratio
 n
DESCRIPTION: IPEC’s next virtual Institute will take place on May 5\, 7\, 1
 2\, and 14\, 2026 focusing on building interprofessional education for coll
 aborative practice (IPECP). Attendees will engage with national leaders to 
 develop the foundational skills for IPECP\, with dedicated time for plannin
 g\, designing\, assessing\, and communicating IPECP projects and goals. The
  program is open to […]
X-ALT-DESC;FMTTYPE=text/html: <p>IPEC's next virtual Institute will take pl
 ace on May 5\, 7\, 12\, and 14\, 2026 focusing on building interprofessiona
 l education for collaborative practice (IPECP). Attendees will engage with 
 national leaders to develop the foundational skills for IPECP\, with dedica
 ted time for planning\, designing\, assessing\, and communicating IPECP pro
 jects and goals.</p><p>The program is open to both interprofessional teams 
 and individual participants.</p><p>Visit the event page for details on team
  composition\, objectives\, and program format. <a href="https://ipec.membe
 rclicks.net/index.php?option=com_mcform&view=ngforms&id=2271589#/">Registra
 tion is now open.</a></p>
CATEGORIES:National Opportunity,Virtual (Other)
ORGANIZER;CN="Tyla Carter":MAILTO:carter.tyla@wustl.edu
URL;VALUE=URI:https://education.med.wustl.edu/ipe-events-activities/event/i
 nterprofessional-education-building-a-framework-for-collaboration/
END:VEVENT
BEGIN:VTIMEZONE
TZID:America/Chicago
BEGIN:DAYLIGHT
TZOFFSETFROM:-0600
TZOFFSETTO:-0500
DTSTART:20260308T080000
TZNAME:CDT
END:DAYLIGHT
END:VTIMEZONE
END:VCALENDAR
