BEGIN:VCALENDAR
VERSION:2.0
PRODID:-//Office of Education//NONSGML Events//EN
CALSCALE:GREGORIAN
X-ORIGINAL-URL:https://education.med.wustl.edu/ipe-events-activities/
X-WR-CALDESC:Office of Education - Events
BEGIN:VEVENT
UID:20260303T2326Z-1772580375.8805-EO-16942-1@10.73.9.9
STATUS:CONFIRMED
DTSTAMP:20260424T125047Z
CREATED:20260302T174732Z
LAST-MODIFIED:20260302T174732Z
DTSTART;VALUE=DATE:20260914
DTEND;VALUE=DATE:20260915
SUMMARY: Nexus Summit 2026
DESCRIPTION: Our interprofessional practice and education community continu
 es to expand boundaries and explore new strategies to prepare our next gene
 ration of health professionals and support practicing teams to achieve thei
 r full potential. We recognize that in an increasingly complex world\, with
  rapidly evolving new technologies\, generational shifts in health policy\,
  and fluid priorities in research and […]
X-ALT-DESC;FMTTYPE=text/html: <p>Our interprofessional practice and educati
 on community continues to expand boundaries and explore new strategies to p
 repare our next generation of health professionals and support practicing t
 eams to achieve their full potential.</p><p>We recognize that in an increas
 ingly complex world\, with rapidly evolving new technologies\, generational
  shifts in health policy\, and fluid priorities in research and education\,
  there may be opportunities to connect and advance our work by tapping impo
 rtant skills that serve us in all aspects of life: curiosity\, creativity a
 nd our community.</p><p>Join us at Nexus Summit 2026 where we\, as an inter
 professional community of educators and practitioners\, researchers and adm
 inistrators\, encourage and foster a spirit of curiosity and creativity in 
 order to deepen and expand how we learn about\, from\, and with each other 
 to make a difference for our institutions\, our learners\, and the individu
 als\, families\, and populations we serve.</p><p>Other dates will be Septem
 ber 15th\, 23rd\, and 24th. Conference Site: <a title="Original URL: https:
 //summit2026.nexusipe.org/. Click or tap if you trust this link." href="htt
 ps://nam10.safelinks.protection.outlook.com/?url=https%3A%2F%2Fsummit2026.n
 exusipe.org%2F&data=05%7C02%7Ccarter.tyla%40wustl.edu%7C1c261cbcbcfe48bf6d1
 008de76182812%7C4ccca3b571cd4e6d974b4d9beb96c6d6%7C0%7C0%7C6390780432938575
 51%7CUnknown%7CTWFpbGZsb3d8eyJFbXB0eU1hcGkiOnRydWUsIlYiOiIwLjAuMDAwMCIsIlAi
 OiJXaW4zMiIsIkFOIjoiTWFpbCIsIldUIjoyfQ%3D%3D%7C0%7C%7C%7C&sdata=7mqF3JPb%2F
 CQnONJMuLSegaeblMKmIRsmamnX3rVMcFw%3D&reserved=0" target="_blank" rel="noop
 ener noreferrer" data-auth="NotApplicable" data-linkindex="1">Nexus Summit 
 2026</a></p>
CATEGORIES:National Opportunity,Virtual (Other)
ORGANIZER;CN="Tyla Carter":MAILTO:carter.tyla@wustl.edu
URL;VALUE=URI:https://education.med.wustl.edu/ipe-events-activities/event/n
 exus-summit-2026/
END:VEVENT
BEGIN:VTIMEZONE
TZID:America/Chicago
BEGIN:DAYLIGHT
TZOFFSETFROM:-0600
TZOFFSETTO:-0500
DTSTART:20260308T080000
TZNAME:CDT
END:DAYLIGHT
END:VTIMEZONE
END:VCALENDAR
