BEGIN:VCALENDAR
VERSION:2.0
PRODID:-//Office of Education//NONSGML Events//EN
CALSCALE:GREGORIAN
X-ORIGINAL-URL:https://education.med.wustl.edu/ipe-events-activities/
X-WR-CALDESC:Office of Education - Events
BEGIN:VEVENT
UID:20260422T2134Z-1776893690.2679-EO-17006-1@10.73.9.9
STATUS:CONFIRMED
DTSTAMP:20260423T194526Z
CREATED:20260422T142151Z
LAST-MODIFIED:20260422T142151Z
DTSTART;TZID=America/Chicago:20260623T113000
DTEND;TZID=America/Chicago:20260623T130000
SUMMARY: Power & Positionality
DESCRIPTION: REPRISE of last fall’s workshop – join us for an even deeper\,
  in-person dive into the different types of power\, and how and when to use
  yours when working with others. Presenters: Dennis Chang\, MD\, Associate 
 Professor and Interprofessional Thread Director\, WashU Medicine Julian Mag
 ee\, PT\, DPT\, WashU Medicine Program in Physical Therapy Register here
X-ALT-DESC;FMTTYPE=text/html: <p>REPRISE of last fall’s workshop – join us 
 for an even deeper\, in-person dive into the different types of power\, and
  how and when to use yours when working with others.</p><p>Presenters:</p><
 ul><li>Dennis Chang\, MD\, Associate Professor and Interprofessional Thread
  Director\, WashU Medicine</li><li>Julian Magee\, PT\, DPT\, WashU Medicine
  Program in Physical Therapy</li></ul><p>Register <a href="https://wustl.az
 1.qualtrics.com/jfe/form/SV_bEkluKVRfPKyU06">here</a></p>
CATEGORIES:CIPE In-Person,CIPE PD Workshop
ORGANIZER;CN="Tyla Carter":MAILTO:carter.tyla@wustl.edu
URL;VALUE=URI:https://education.med.wustl.edu/ipe-events-activities/event/p
 ower-positionality-2/
END:VEVENT
BEGIN:VTIMEZONE
TZID:America/Chicago
BEGIN:DAYLIGHT
TZOFFSETFROM:-0600
TZOFFSETTO:-0500
DTSTART:20260308T080000
TZNAME:CDT
END:DAYLIGHT
END:VTIMEZONE
END:VCALENDAR
